BEGIN:VCALENDAR
VERSION:2.0
PRODID:-// - ECPv6.14.2//NONSGML v1.0//EN
CALSCALE:GREGORIAN
METHOD:PUBLISH
X-ORIGINAL-URL:https://kerksijbekarspel.nl
X-WR-CALDESC:Evenementen voor 
REFRESH-INTERVAL;VALUE=DURATION:PT1H
X-Robots-Tag:noindex
X-PUBLISHED-TTL:PT1H
BEGIN:VTIMEZONE
TZID:UTC
BEGIN:STANDARD
TZOFFSETFROM:+0000
TZOFFSETTO:+0000
TZNAME:UTC
DTSTART:20250101T000000
END:STANDARD
END:VTIMEZONE
BEGIN:VEVENT
DTSTART;TZID=UTC:20251221T190000
DTEND;TZID=UTC:20251221T203000
DTSTAMP:20260420T092322
CREATED:20251104T145324Z
LAST-MODIFIED:20251104T145324Z
UID:262-1766343600-1766349000@kerksijbekarspel.nl
SUMMARY:Oecumenische kerstviering
DESCRIPTION:
URL:https://kerksijbekarspel.nl/event/oecumenische-kerstviering/
END:VEVENT
END:VCALENDAR