BEGIN:VCALENDAR
VERSION:2.0
PRODID:-// - ECPv6.14.2//NONSGML v1.0//EN
CALSCALE:GREGORIAN
METHOD:PUBLISH
X-ORIGINAL-URL:https://kerksijbekarspel.nl
X-WR-CALDESC:Evenementen voor 
REFRESH-INTERVAL;VALUE=DURATION:PT1H
X-Robots-Tag:noindex
X-PUBLISHED-TTL:PT1H
BEGIN:VTIMEZONE
TZID:UTC
BEGIN:STANDARD
TZOFFSETFROM:+0000
TZOFFSETTO:+0000
TZNAME:UTC
DTSTART:20250101T000000
END:STANDARD
END:VTIMEZONE
BEGIN:VEVENT
DTSTART;TZID=UTC:20250705T130000
DTEND;TZID=UTC:20250705T170000
DTSTAMP:20260420T173719
CREATED:20250602T095544Z
LAST-MODIFIED:20250702T092540Z
UID:194-1751720400-1751734800@kerksijbekarspel.nl
SUMMARY:Expositie Dorpskerk Sijbekarspel
DESCRIPTION:Zaterdag 5 en 12 én zondag 6 en 13 juli vindt er in het kerkje een expositie met beeldende kunst van Marjoke Berendse en Erna Peereboom plaats.
URL:https://kerksijbekarspel.nl/event/expositie-dorpskerk-sijbekarspel/
LOCATION:Kerk Sijbekarspel\, Westerstraat 42\, Sijbekarspel
END:VEVENT
BEGIN:VEVENT
DTSTART;TZID=UTC:20250706T130000
DTEND;TZID=UTC:20250706T170000
DTSTAMP:20260420T173719
CREATED:20250602T095654Z
LAST-MODIFIED:20250702T092454Z
UID:196-1751806800-1751821200@kerksijbekarspel.nl
SUMMARY:Expositie Dorpskerk Sijbekarspel
DESCRIPTION:Zaterdag 5 en 12 én zondag 6 en 13 juli vindt er in het kerkje een expositie met beeldende kunst van Marjoke Berendse en Erna Peereboom plaats. \n 
URL:https://kerksijbekarspel.nl/event/expositie-dorpskerk-sijbekarspel-2/
LOCATION:Kerk Sijbekarspel\, Westerstraat 42\, Sijbekarspel
END:VEVENT
BEGIN:VEVENT
DTSTART;TZID=UTC:20250712T130000
DTEND;TZID=UTC:20250712T170000
DTSTAMP:20260420T173719
CREATED:20250602T100137Z
LAST-MODIFIED:20250702T092641Z
UID:200-1752325200-1752339600@kerksijbekarspel.nl
SUMMARY:Expositie Dorpskerk Sijbekarspel
DESCRIPTION:Zaterdag 5 en 12 én zondag 6 en 13 juli vindt er in het kerkje een expositie met beeldende kunst van Marjoke Berendse en Erna Peereboom plaats. \n \n 
URL:https://kerksijbekarspel.nl/event/expositie-dorpskerk-sijbekarspel-3/
LOCATION:Kerk Sijbekarspel\, Westerstraat 42\, Sijbekarspel
END:VEVENT
BEGIN:VEVENT
DTSTART;TZID=UTC:20250713T130000
DTEND;TZID=UTC:20250713T170000
DTSTAMP:20260420T173719
CREATED:20250602T100244Z
LAST-MODIFIED:20250702T092402Z
UID:202-1752411600-1752426000@kerksijbekarspel.nl
SUMMARY:Expositie Dorpskerk Sijbekarspel
DESCRIPTION:Zaterdag 5 en 12 én zondag 6 en 13 juli vindt er in het kerkje een expositie met beeldende kunst van Marjoke Berendse en Erna Peereboom plaats. \n 
URL:https://kerksijbekarspel.nl/event/expositie-dorpskerk-sijbekarspel-4/
LOCATION:Kerk Sijbekarspel\, Westerstraat 42\, Sijbekarspel
END:VEVENT
BEGIN:VEVENT
DTSTART;TZID=UTC:20250720T100000
DTEND;TZID=UTC:20250720T113000
DTSTAMP:20260420T173719
CREATED:20250717T202955Z
LAST-MODIFIED:20250717T202955Z
UID:224-1753005600-1753011000@kerksijbekarspel.nl
SUMMARY:Kerkdienst
DESCRIPTION:
URL:https://kerksijbekarspel.nl/event/kerkdienst/
END:VEVENT
END:VCALENDAR